BEGIN:VCALENDAR
PRODID:-//Mozilla.org/NONSGML Mozilla Calendar V1.1//EN
VERSION:2.0
BEGIN:VEVENT
UID:69e8a84767e48
DTSTAMP:20260422T105151Z
DTSTART:20261109T100000Z
DTEND:20261110T100000Z
SUMMARY:Demo calendar event for Lookatmedia™
DESCRIPTION:This is an example of what an event looks like when a journalist uses the 'save the date' feature in Lookatmedia™. https://www.lookatmedia.co/book-a-demo

END:VEVENT
END:VCALENDAR